
BEGIN:VCALENDAR
VERSION:2.0
PRODID:-//N.S.S.S.V. Lacustris - ECPv6.15.18//NONSGML v1.0//EN
CALSCALE:GREGORIAN
METHOD:PUBLISH
X-ORIGINAL-URL:https://lacustris.nl
X-WR-CALDESC:Events for N.S.S.S.V. Lacustris
REFRESH-INTERVAL;VALUE=DURATION:PT1H
X-Robots-Tag:noindex
X-PUBLISHED-TTL:PT1H
BEGIN:VTIMEZONE
TZID:Europe/Amsterdam
BEGIN:DAYLIGHT
TZOFFSETFROM:+0100
TZOFFSETTO:+0200
TZNAME:CEST
DTSTART:20220327T010000
END:DAYLIGHT
BEGIN:STANDARD
TZOFFSETFROM:+0200
TZOFFSETTO:+0100
TZNAME:CET
DTSTART:20221030T010000
END:STANDARD
BEGIN:DAYLIGHT
TZOFFSETFROM:+0100
TZOFFSETTO:+0200
TZNAME:CEST
DTSTART:20230326T010000
END:DAYLIGHT
BEGIN:STANDARD
TZOFFSETFROM:+0200
TZOFFSETTO:+0100
TZNAME:CET
DTSTART:20231029T010000
END:STANDARD
BEGIN:DAYLIGHT
TZOFFSETFROM:+0100
TZOFFSETTO:+0200
TZNAME:CEST
DTSTART:20240331T010000
END:DAYLIGHT
BEGIN:STANDARD
TZOFFSETFROM:+0200
TZOFFSETTO:+0100
TZNAME:CET
DTSTART:20241027T010000
END:STANDARD
BEGIN:DAYLIGHT
TZOFFSETFROM:+0100
TZOFFSETTO:+0200
TZNAME:CEST
DTSTART:20250330T010000
END:DAYLIGHT
BEGIN:STANDARD
TZOFFSETFROM:+0200
TZOFFSETTO:+0100
TZNAME:CET
DTSTART:20251026T010000
END:STANDARD
END:VTIMEZONE
BEGIN:VEVENT
DTSTART;TZID=Europe/Amsterdam:20241016T190000
DTEND;TZID=Europe/Amsterdam:20241016T220000
DTSTAMP:20260421T100207
CREATED:20241002T092449Z
LAST-MODIFIED:20241007T175518Z
UID:7094-1729105200-1729116000@lacustris.nl
SUMMARY:Citytour Nijmegen
DESCRIPTION:Lieve Lacustrianen\, \n\n\n\nWEGENS SUCCES VERLENGT!!Het collegejaar en het schaatsseizoen zijn weer begonnen! Hoog tijd om onze prachtige stad\, de allerleukste schaatsvereniging en elkaar te leren kennen (of beter te leren kennen als je al een tijdje meedraait!). Daarom staat op woensdag 16 oktober om 19:00 uur de City Tour Nijmegen op de planning. Samen met een groepje ga je de stad verkennen\, en vragen oplossen om tot de geheime eindlocatie te komen. Daar zullen we vervolgens afsluiten met een gezellig borrel! Dus…… meld je snel aan! \n\n\n\nVoor wie? —> alle Lacustrianen (aanrader voor nieuwe leden)Wanneer? —> 16 oktober 19:00 uurWaar? —> Nijmegen centrumHoe duur? —> helemaal gratis!Aan- en afmelden kan tot? —> zondag 13 oktober 23:59 uur.
URL:https://lacustris.nl/event/citytour2024/
ORGANIZER;CN="Activiteiten Commissie":MAILTO:ac@lacustris.nl
END:VEVENT
BEGIN:VEVENT
DTSTART;TZID=Europe/Amsterdam:20241012T190000
DTEND;TZID=Europe/Amsterdam:20241013T000000
DTSTAMP:20260421T100207
CREATED:20240818T151026Z
LAST-MODIFIED:20241011T082856Z
UID:7069-1728759600-1728777600@lacustris.nl
SUMMARY:Lacustrisis activiteit
DESCRIPTION:
URL:https://lacustris.nl/event/lacustrisis/
LOCATION:‘s-Hertogenbosch station\, Stationsplein 147\, 's-Hertogenbosch\, 5211BP\, Netherlands
ORGANIZER;CN="Activiteiten Commissie":MAILTO:ac@lacustris.nl
END:VEVENT
BEGIN:VEVENT
DTSTART;TZID=Europe/Amsterdam:20240928T200000
DTEND;TZID=Europe/Amsterdam:20240929T000000
DTSTAMP:20260421T100207
CREATED:20240818T150241Z
LAST-MODIFIED:20240818T150254Z
UID:7065-1727553600-1727568000@lacustris.nl
SUMMARY:Eindfeest Lustrum
DESCRIPTION:❄️⛸️Eindfeest Lustrumjaar Lacustris! ❄️⛸️Beste leden en vrienden van Schaatsvereniging Lacustris\,Het is tijd om ons geweldige lustrumjaar af te sluiten met een knallend feest! We nodigen jullie van harte uit om samen met ons te vieren en terug te blikken op een jaar vol fantastische momenten op het ijs en daarbuiten.🗓 Datum: 28-9-2024🕒 Tijd: 20:00📍 Locatie: Centrum Nijmegen ❄️ Thema: Parels op het ijsKom genieten van een avond vol gezelligheid\, muziek en drankjes. Trek je mooiste feestoutfit passend bij ons thema aan en zorg dat je klaar bent om te dansen en te lachen. Er zijn speciale lustrumactiviteiten en verrassingen gepland\, dus dit wil je niet missen!Laten we samen het lustrumjaar op een onvergetelijke manier afsluiten. We hopen jullie allemaal te zien op het feest!Met sportieve groet\,De Lustrumcommissie
URL:https://lacustris.nl/event/eindfeest/
LOCATION:De Fuik\, 1e Walstraat 6\, Nijmegen\, 6511GG\, Nederland
ORGANIZER;CN="Lustrum commissie":MAILTO:lustrum@lacustris.nl
END:VEVENT
BEGIN:VEVENT
DTSTART;TZID=Europe/Amsterdam:20240717T180000
DTEND;TZID=Europe/Amsterdam:20240717T220000
DTSTAMP:20260421T100207
CREATED:20240503T094330Z
LAST-MODIFIED:20241006T112128Z
UID:7001-1721239200-1721253600@lacustris.nl
SUMMARY:Vierdaagse BBQ
DESCRIPTION:Later meer info! \n\n\n\nLieve Lacustrianen! \n\n\n\nHet is bijna vakantie en dat betekent ook dat de vierdaagse feesten er weer aan komen. Het is dan ook weer tijd voor onze jaarlijkse vierdaagse bbq! Zorg dat je erbij bent\, en je mag een +1 meenemen. Na de bbq gaan we gezellig met z’n allen de stad in! \n\n\n\nKosteloos aan- en afmelden is tot en met 13 juli!
URL:https://lacustris.nl/event/vierdaagsebbq-2024/
ORGANIZER;CN="Activiteiten Commissie":MAILTO:ac@lacustris.nl
END:VEVENT
BEGIN:VEVENT
DTSTART;TZID=Europe/Amsterdam:20240702T180000
DTEND;TZID=Europe/Amsterdam:20240702T213000
DTSTAMP:20260421T100207
CREATED:20240612T205931Z
LAST-MODIFIED:20240613T123444Z
UID:7050-1719943200-1719955800@lacustris.nl
SUMMARY:Zomerclubkampioenschappen 2024
DESCRIPTION:Het is weer tijd voor de jaarlijkse zomerclubkampioenschappen! \n\n\n\nInrijden vanaf 18u\, skeeleren begint om 18.30u.
URL:https://lacustris.nl/event/zomerclubkampioenschappen-2024/
LOCATION:Skeelerbaan Bemmel\, Drieske 7\, Bemmel\, 6681CX\, Nederland
END:VEVENT
BEGIN:VEVENT
DTSTART;TZID=Europe/Amsterdam:20240609T140000
DTEND;TZID=Europe/Amsterdam:20240609T160000
DTSTAMP:20260421T100207
CREATED:20240502T094810Z
LAST-MODIFIED:20240502T094935Z
UID:6993-1717941600-1717948800@lacustris.nl
SUMMARY:Skeelertocht
DESCRIPTION:Doe gezellig mee met de tweede skeelertocht van het jaar! \n\n\n\nNa de tocht kan er afgesloten worden met een drankje.
URL:https://lacustris.nl/event/skeelertocht-juni-2024/
LOCATION:station Lent\, Griftdijk Zuid 141\, Nijmegen\, 6663BE\, Nederland
ORGANIZER;CN="Skeelercommissie":MAILTO:skeelercommissie@lacustris.nl
END:VEVENT
BEGIN:VEVENT
DTSTART;TZID=Europe/Amsterdam:20240607T200000
DTEND;TZID=Europe/Amsterdam:20240607T233000
DTSTAMP:20260421T100207
CREATED:20240503T093901Z
LAST-MODIFIED:20241006T112148Z
UID:6999-1717790400-1717803000@lacustris.nl
SUMMARY:Bierlympics
DESCRIPTION:Het is weer tijd voor de jaarlijkse bierlympics!! Een avond vol gezelligheid\, drankjes\, sneuvelen en nog meer drankjes🍻
URL:https://lacustris.nl/event/bierlympics-2024/
ORGANIZER;CN="Activiteiten Commissie":MAILTO:ac@lacustris.nl
END:VEVENT
BEGIN:VEVENT
DTSTART;TZID=Europe/Amsterdam:20240530T200000
DTEND;TZID=Europe/Amsterdam:20240530T233000
DTSTAMP:20260421T100207
CREATED:20240425T151636Z
LAST-MODIFIED:20240518T115128Z
UID:6986-1717099200-1717111800@lacustris.nl
SUMMARY:Open podium
DESCRIPTION:Lieve allemaal\,Haal je eenwieler en jongleerballen maar alvast van de zolder af\, want op 30 mei kan je eindelijk je talent laten zien bij het open podium! Of je nou graag moppen vertelt\, een dansje wil doen\, een toneelstukje wil opvoeren of gewoon een karaokeliedje wil zingen\, alles is welkom😍 denk je nou\, ik kijk liever naar de show\, ook dan mag je natuurlijk aansluiten. We hopen jullie allemaal op 30 mei om 20:00 bij Café Dollars te ontvangen!Liefs\, de lustrumcie❤️P.S. De band treedt ook weer op\, dat wil je natuurlijk niet missen!
URL:https://lacustris.nl/event/open-podium/
CATEGORIES:6e Lustrum,Gezelligheids-activiteiten
ATTACH;FMTTYPE=image/jpeg:https://lacustris.nl/wp-content/uploads/2024/04/IMG-20240507-WA0001.jpg
ORGANIZER;CN="Lustrum commissie":MAILTO:lustrum@lacustris.nl
END:VEVENT
BEGIN:VEVENT
DTSTART;TZID=Europe/Amsterdam:20240524T180000
DTEND;TZID=Europe/Amsterdam:20240526T180000
DTSTAMP:20260421T100207
CREATED:20231206T214245Z
LAST-MODIFIED:20240320T153945Z
UID:6821-1716573600-1716746400@lacustris.nl
SUMMARY:Batavierenrace 2024 - Winners edition
DESCRIPTION:Dear Lacustrianen! \n\nIt’s that time again at the end of May: The Batavierenrace! (24th – 26th) \n\nWe also want to participate again\, but we need you for that! With 25 people we will run from Nijmegen to Enschede in stages of 3 to 10 km\, so there is a distance for everyone! \n\nAfter this great competition\, we will of course go to the most beautiful and largest student party in the Benelux on Saturday and sleep in our wonderful tent camp on the campus in Enschede. \n\nIf you would like to test your skating fitness on the road and afterwards have a big party\, sign up quickly\, because full = full. \n\nPS: participating is of course the most important thing\, but we want to show the other student skating associations who is the fastest ;)! \n\nGreetings\, The batacommittee
URL:https://lacustris.nl/event/batavierenrace-2024-winners-edition/
CATEGORIES:'Gezelligheid' activities
ATTACH;FMTTYPE=image/jpeg:https://lacustris.nl/wp-content/uploads/2023/12/IMG-20231220-WA0016.jpg
ORGANIZER;CN="Bestuur":MAILTO:voorzitter@lacustris.nl
END:VEVENT
BEGIN:VEVENT
DTSTART;TZID=Europe/Amsterdam:20240524T180000
DTEND;TZID=Europe/Amsterdam:20240526T180000
DTSTAMP:20260421T100207
CREATED:20231206T214245Z
LAST-MODIFIED:20231206T214245Z
UID:6822-1716573600-1716746400@lacustris.nl
SUMMARY:Batavierenrace 2024 - Winners edition
DESCRIPTION:
URL:https://lacustris.nl/event/batavierenrace-2024-winners-edition/
ORGANIZER;CN="Bestuur":MAILTO:voorzitter@lacustris.nl
END:VEVENT
BEGIN:VEVENT
DTSTART;TZID=Europe/Amsterdam:20240524T180000
DTEND;TZID=Europe/Amsterdam:20240526T180000
DTSTAMP:20260421T100207
CREATED:20231206T214245Z
LAST-MODIFIED:20240216T163355Z
UID:6543-1716573600-1716746400@lacustris.nl
SUMMARY:Batavierenrace 2024 - Winnaars editie
DESCRIPTION:Lieve Lacustrianen! \n\n\n\nEind mei – 24 t/m 26 – is het weer zover: de Batavierenrace! \n\n\n\nOok wij willen weer meedoen\, alleen daar hebben we jou voor nodig! Met 25 man gaan we van Nijmegen naar Enschede hardlopen in etappes van 3 tot 10km\, voor ieder dus wat wils! \n\n\n\nNa deze mooie wedstrijd zullen we op zaterdag natuurlijk naar het mooiste en grootste studentenfeest van de Benelux gaan en slapen we in ons heerlijke tentenkamp op de campus in Enschede. \n\n\n\nLijkt het je nou leuk om je schaatsconditie op de weg te testen en daarna een groot feestje vieren\, schrijf je dan snel in\, want vol=vol. \n\n\n\nPS: meedoen is natuurlijk het belangrijkste\, maar we willen natuurlijk aan de andere SSV’s laten zien wie er de snelste is ;)! \n\n\n\nLiefs\, de batacommissie
URL:https://lacustris.nl/event/bata/
CATEGORIES:Gezelligheids-activiteiten
ATTACH;FMTTYPE=image/jpeg:https://lacustris.nl/wp-content/uploads/2023/12/IMG-20231220-WA0016.jpg
ORGANIZER;CN="Bestuur":MAILTO:voorzitter@lacustris.nl
END:VEVENT
BEGIN:VEVENT
DTSTART;TZID=Europe/Amsterdam:20240522T203000
DTEND;TZID=Europe/Amsterdam:20240522T233000
DTSTAMP:20260421T100207
CREATED:20240503T093214Z
LAST-MODIFIED:20241006T112211Z
UID:6997-1716409800-1716420600@lacustris.nl
SUMMARY:Kroegentocht
DESCRIPTION:Op 22 mei is het tijd voor een kroegentocht! Later meer info!
URL:https://lacustris.nl/event/kroegentocht/
ORGANIZER;CN="Activiteiten Commissie":MAILTO:ac@lacustris.nl
END:VEVENT
BEGIN:VEVENT
DTSTART;TZID=Europe/Amsterdam:20240522T183000
DTEND;TZID=Europe/Amsterdam:20240522T213000
DTSTAMP:20260421T100207
CREATED:20240502T094141Z
LAST-MODIFIED:20240502T094144Z
UID:6989-1716402600-1716413400@lacustris.nl
SUMMARY:Skeelertocht
DESCRIPTION:Doe gezellig mee met de eerste skeelertocht van dit jaar! \n\n\n\nNa de tocht kan er afgesloten worden met een drankje.
URL:https://lacustris.nl/event/skeelertocht-mei-2024/
LOCATION:Ooijpolder
ORGANIZER;CN="Skeelercommissie":MAILTO:skeelercommissie@lacustris.nl
END:VEVENT
BEGIN:VEVENT
DTSTART;TZID=Europe/Amsterdam:20240423T193000
DTEND;TZID=Europe/Amsterdam:20240423T213000
DTSTAMP:20260421T100207
CREATED:20240405T152213Z
LAST-MODIFIED:20241006T112231Z
UID:6954-1713900600-1713907800@lacustris.nl
SUMMARY:Heel Lacustris bakt!
DESCRIPTION:Hey schaatsfanaten en zoete levensgenieters!Heb je een passie voor schaatsen én bakken? Op 23 april\, van 19:30 tot 21:30 uur\, organiseren we onze eigen versie van “Heel Holland bakt”. Maar deze keer met een twist! Jij en je mede-Lacustris leden gaan thuis de keuken in en bakken je eigen meesterwerk.Breng je eigen creatie mee en laat je culinaire talenten schitteren. Met elkaar gaan we het leukste gedeelte doen\, namelijk: proeven én beoordelen! We zullen elkaars baksels beoordelen op smaak\, presentatie en originaliteit. En wie weet\, misschien ga jij wel naar huis als de ultieme bak-koning(in) van Lacustris!Dus schaatsvrienden\, zet je bakmuts op\, pak je schort en sluit je aan bij ons op 23 april! Het wordt een avond vol lekkernijen\, lachen en nieuwe herinneringen. Mis het niet!Tot dan!Team Lacustris 🍪❄️
URL:https://lacustris.nl/event/heel-lacustris-bakt-2024/
ORGANIZER;CN="Activiteiten Commissie":MAILTO:ac@lacustris.nl
END:VEVENT
BEGIN:VEVENT
DTSTART;TZID=Europe/Amsterdam:20240410T193000
DTEND;TZID=Europe/Amsterdam:20240410T203000
DTSTAMP:20260421T100207
CREATED:20240314T180436Z
LAST-MODIFIED:20241006T112243Z
UID:6824-1712777400-1712781000@lacustris.nl
SUMMARY:Paastocht
DESCRIPTION:Lieve Lacustrianen\,Als eerstejaars commissie hebben we een leuke\, tweede activiteit bedacht: een paastocht. Door de stad zullen paaseieren verstopt zijn die gevonden moeten worden. Daarnaast valt er ook wat te winnen :). We verzamelen om 19.30 op de grote markt in Nijmegen. We hopen zo veel mogelijk mensen te zien ❤️🖤Groetjes\, de eerstejaars commissie 🙂
URL:https://lacustris.nl/event/paastocht/
LOCATION:De Waagh\, Grote Markt 26\, Nijmegen\, 6511KB\, Nederland
END:VEVENT
BEGIN:VEVENT
DTSTART;TZID=Europe/Amsterdam:20240328T203000
DTEND;TZID=Europe/Amsterdam:20240328T220000
DTSTAMP:20260421T100207
CREATED:20240312T094945Z
LAST-MODIFIED:20241006T112257Z
UID:6781-1711657800-1711663200@lacustris.nl
SUMMARY:Trampolinetrefbal!
DESCRIPTION:Op 28 maart gaan we trampolinetrefbal spelen! Doe gezellig mee!
URL:https://lacustris.nl/event/trampolinetrefbal/
ORGANIZER;CN="Activiteiten Commissie":MAILTO:ac@lacustris.nl
END:VEVENT
BEGIN:VEVENT
DTSTART;TZID=Europe/Amsterdam:20240320T190000
DTEND;TZID=Europe/Amsterdam:20240320T210000
DTSTAMP:20260421T100207
CREATED:20240130T085517Z
LAST-MODIFIED:20240204T120849Z
UID:6642-1710961200-1710968400@lacustris.nl
SUMMARY:Lustrum Lezing
DESCRIPTION:Lieve Lacustrianen\, Op 20 maart hebben we weer iets heel leuks voor jullie geregeld\, namelijk de lustrum lezing!🎉 Om samen met elkaar ons lustrumjaar te vieren zullen we onder andere verhalen gaan horen van Tjark Verhoeven en Jelle van Beek. Tjark is de zoon van de oprichter van Lacustris\, en Jelle is ijsmeester bij Triavium.⛸  We krijgen zelfs een rondleiding van Jelle over alles achter de schermen bij Triavium!De lezing zal plaatsvinden in Triavium en zal beginnen om 19.00\, met inloop vanaf 18.45. Het zal tot ongeveer 21.00 duren.De activiteit is gratis🤑  \n\n\n\nLiefs\, de lustrumcommissie❤
URL:https://lacustris.nl/event/lezing/
LOCATION:Triavium\, Van Rosenburgweg 2\, Nijmegen\, 6537 TM
CATEGORIES:6e Lustrum,Gezelligheids-activiteiten
ATTACH;FMTTYPE=image/jpeg:https://lacustris.nl/wp-content/uploads/2024/01/IMG-20240130-WA0001.jpg
ORGANIZER;CN="Lustrum commissie":MAILTO:lustrum@lacustris.nl
END:VEVENT
BEGIN:VEVENT
DTSTART;TZID=Europe/Amsterdam:20240306T190000
DTEND;TZID=Europe/Amsterdam:20240306T210000
DTSTAMP:20260421T100207
CREATED:20240217T142444Z
LAST-MODIFIED:20241006T112310Z
UID:6657-1709751600-1709758800@lacustris.nl
SUMMARY:Mario Kart
DESCRIPTION:Lieve leden\, \n\n\n\nWoensdag 6 maart organiseert de AC samen met Dorans een Mario Kart Party! Wij gaan dan strijden om de titel in de vorm van een toernooi. \n\n\n\nWanneer: 6 maartHoelaat: 19.00-21.00 uurKosten: gratisAan/afmelden: Uiterlijk zondag 3 maartWaar: Huygensgebouw\, lokaal 00.068 \n\n\n\nTot dan!Liefs de AC \n\n\n\nDear members\,  \n\n\n\nWednesday March 6th\, we will have a Mario Kart Party with Dorans. We will then compete for the title in the form of a tournament. \n\n\n\nWhen: 6 MarchTime: 19.00-21.00hCosts: freeRegister/deregister: No later than sunday March 3Where: Huygens\, room 00.068
URL:https://lacustris.nl/event/mario-kart/
LOCATION:Huygensgebouw\, Heyendaalseweg 135\, Nijmegen\, 6525 AJ\, Nederland
ORGANIZER;CN="Activiteiten Commissie":MAILTO:ac@lacustris.nl
END:VEVENT
BEGIN:VEVENT
DTSTART;TZID=Europe/Amsterdam:20240229T220000
DTEND;TZID=Europe/Amsterdam:20240229T233000
DTSTAMP:20260421T100207
CREATED:20240206T122055Z
LAST-MODIFIED:20241006T112324Z
UID:6651-1709244000-1709249400@lacustris.nl
SUMMARY:Shotjes bowlen
DESCRIPTION:Lieve lacustrianen\, \n\n\n\nOp 29 februari gaan we samen shotjes bowlen!!Dus wil jij graag wat pinnen omgooien terwijl je geniet van een drankje\, muziek en heel veel gezelligheid! Meld je dan snel aan!Je kunt maar 1x per 4 jaar schrikkelshotjes bowlen😉 \n\n\n\nWat: shotjes bowlenWaar: OlroundHoe laat: 22:00-23:30Kosten: +/- €10Inschrijven: t/m 27 feb
URL:https://lacustris.nl/event/bowlen/
LOCATION:Olround Bowling Nijmegen\, Heyendaalseweg 90-92\, Nijmegen\, 6525 AK\, Nederland
ORGANIZER;CN="Activiteiten Commissie":MAILTO:ac@lacustris.nl
END:VEVENT
BEGIN:VEVENT
DTSTART;TZID=Europe/Amsterdam:20240207T203000
DTEND;TZID=Europe/Amsterdam:20240207T223000
DTSTAMP:20260421T100207
CREATED:20240131T175430Z
LAST-MODIFIED:20240206T121454Z
UID:6647-1707337800-1707345000@lacustris.nl
SUMMARY:Lacustris Valentijn Kleien
DESCRIPTION:
URL:https://lacustris.nl/event/valentijn-kleien/
ORGANIZER;CN="Activiteiten Commissie":MAILTO:ac@lacustris.nl
END:VEVENT
BEGIN:VEVENT
DTSTART;TZID=Europe/Amsterdam:20240202T200000
DTEND;TZID=Europe/Amsterdam:20240202T235900
DTSTAMP:20260421T100207
CREATED:20231022T145237Z
LAST-MODIFIED:20231107T091559Z
UID:6350-1706904000-1706918340@lacustris.nl
SUMMARY:Lustrum Gala
DESCRIPTION:Beste (oud)leden\, SSV’s en NSSR verenigingen\, \n\n\n\nHet moment waar we allemaal op hebben gewacht\, het 30e Lustrum Gala van N.S.S.S.V. Lacustris\, staat voor de deur en we kunnen nauwelijks wachten om met jullie te vieren! Markeer vrijdag 2 februari 2024 met een dikke rode stift in je agenda\, want dit wordt een avond om nooit te vergeten. Aanmelden/afmelden tot 29 januari! \n\n\n\n🌟 Lustrum Gala 2024 🌟📅 Datum: Vrijdag 2 februari 2024🕗 Tijd: 20:00 uur tot middernacht📍 Locatie: De Waagh\, Grote Markt 26\, 6511 KB Nijmegen \n\n\n\nWat kun je verwachten?✨ Een betoverende avond in een historische locatie\, de prachtige De Waagh in hartje Nijmegen.🎉 Onbeperkt bier\, wijn en fris voor slechts €39\,50 per persoon. Dat betekent dat je de hele avond kunt genieten zonder je zorgen te maken over je portemonnee.💃 Stijlvolle gala-outfits en de beste muziek om de dansvloer te veroveren.📸 Fotomomenten om herinneringen te koesteren. \n\n\n\nDit is de gelegenheid om oude vrienden en medeverenigingsleden weer te ontmoeten\, herinneringen op te halen en nieuwe herinneringen te creëren.
URL:https://lacustris.nl/event/lustrum-gala/
LOCATION:De Waagh\, Grote Markt 26\, Nijmegen\, 6511KB\, Nederland
CATEGORIES:6e Lustrum,Gezelligheids-activiteiten
ATTACH;FMTTYPE=image/png:https://lacustris.nl/wp-content/uploads/2023/10/20231022_165606_0000.png
ORGANIZER;CN="Lustrum commissie":MAILTO:lustrum@lacustris.nl
END:VEVENT
BEGIN:VEVENT
DTSTART;TZID=Europe/Amsterdam:20240131T201500
DTEND;TZID=Europe/Amsterdam:20240131T223000
DTSTAMP:20260421T100207
CREATED:20240121T095023Z
LAST-MODIFIED:20240121T095026Z
UID:6616-1706732100-1706740200@lacustris.nl
SUMMARY:Dart- en poolavond
DESCRIPTION:Kom op woensdag 31 januari 2024 naar Café Pool in Nijmegen en laat je dart- en pool vaardigheden zien! Een avond vol gezelligheid staat op het programma.📅 Datum: Woensdag 31-Jan-24🕣 Inloop: 20.15-20.30 uur🕢 Tijd: 20.30-22.30 uur📍 Adres: Van Welderenstraat 99\, 6511 MG Nijmegen💵 Kosten: ongeveer €7Of je nu een doorgewinterde darter bent of net begint met poolen\, iedereen is welkom! Verleg je grenzen op het dartbord of laat je tactiek zien aan de pooltafel. Dit is dé kans om je skills te tonen buiten het ijs!Dus\, noteer het in je agenda\, trommel je vrienden op\, en zorg dat je erbij bent op 31 januari. Café Pool en Lacustris staan garant voor een mooie avond! 🎱🥳
URL:https://lacustris.nl/event/dart-en-poolavond/
LOCATION:Café Pool\, Van Welderenstraat 99\, Nijmegen\, 6511MG\, Nederland
ORGANIZER;CN="Activiteiten Commissie":MAILTO:ac@lacustris.nl
END:VEVENT
BEGIN:VEVENT
DTSTART;TZID=Europe/Amsterdam:20240107T120000
DTEND;TZID=Europe/Amsterdam:20240107T200000
DTSTAMP:20260421T100207
CREATED:20231025T083152Z
LAST-MODIFIED:20231031T153052Z
UID:6371-1704628800-1704657600@lacustris.nl
SUMMARY:EK afstanden kijken
DESCRIPTION:Lieve Lacustrianen\, \n\n\n\nIn januari is het EK afstanden\, en dat willen we graag samen kijken! We willen graag op de zondag samen naar Heerenveen en de schaatsers aanmoedigen!  \n\n\n\nWat? Het EK afstanden kijkenWanneer? Zondag 7 januari 2024Waar? Thialf HeerenveenKosten? 37\,50 (Eventuele reiskosten komen hier nog bij)Kosteloos aan- en afmelden? t/m maandag 30 oktober 20u
URL:https://lacustris.nl/event/ek-afstanden-kijken/
LOCATION:Thialf\, Pim Mulierlaan 1\, Heerenveen\, 8443 DA\, Nederland
ORGANIZER;CN="Activiteiten Commissie":MAILTO:ac@lacustris.nl
END:VEVENT
BEGIN:VEVENT
DTSTART;TZID=Europe/Amsterdam:20231215T183000
DTEND;TZID=Europe/Amsterdam:20231215T230000
DTSTAMP:20260421T100207
CREATED:20231024T110148Z
LAST-MODIFIED:20231101T134729Z
UID:6365-1702665000-1702681200@lacustris.nl
SUMMARY:Kerstdiner
DESCRIPTION:
URL:https://lacustris.nl/event/kerstdiner/
LOCATION:Nijmegen centrum\, Nijmegen\, Nederland
CATEGORIES:6e Lustrum,Gezelligheids-activiteiten
ORGANIZER;CN="Lustrum commissie":MAILTO:lustrum@lacustris.nl
END:VEVENT
BEGIN:VEVENT
DTSTART;TZID=Europe/Amsterdam:20231206T203000
DTEND;TZID=Europe/Amsterdam:20231206T230000
DTSTAMP:20260421T100207
CREATED:20231119T144007Z
LAST-MODIFIED:20231124T142714Z
UID:6420-1701894600-1701903600@lacustris.nl
SUMMARY:Spelletjesavond
DESCRIPTION:Lieve Lacustrianen\, \n\n\n\nSinterklaas in weer in het land en dat betekent dat we zijn verjaardag ook moeten vieren!Dus 6 december zullen we een spelletjesavond houden!Meld je snel aan want dit wordt zeker een gezellige avond met veel pepernoten😋Als je leuke spelletjes hebt\, neem ze dan vooral mee! \n\n\n\nWat: spelletjesavondWanneer: 6 decemberHoelaat: 20:30Meld je snel aan! \n\n\n\nLet op: bring your own booze \n\n\n\nLiefs\,De AC
URL:https://lacustris.nl/event/spelletjesavond-2/
ORGANIZER;CN="Activiteiten Commissie":MAILTO:ac@lacustris.nl
END:VEVENT
BEGIN:VEVENT
DTSTART;TZID=Europe/Amsterdam:20231124T204500
DTEND;TZID=Europe/Amsterdam:20231124T223000
DTSTAMP:20260421T100207
CREATED:20231110T101214Z
LAST-MODIFIED:20231110T101220Z
UID:6408-1700858700-1700865000@lacustris.nl
SUMMARY:Apenkooien
DESCRIPTION:Lieve Lacustrianen!Op 24 november gaan we apenkooien! Een avond lekker rondrennen en spelletjes spelen\, daar wil je toch bij zijn? Meld je snel aan deze activiteit is gratis! \n\n\n\nWat: apenkooienWaar: sportcentrum zaal volgt laterWanneer: 24 november 20:45-22:30
URL:https://lacustris.nl/event/apenkooien/
LOCATION:radboud sportcentrum\, Heyendaalseweg 141\, Nijmegen\, 6525 AJ\, Nederland
ORGANIZER;CN="Activiteiten Commissie":MAILTO:ac@lacustris.nl
END:VEVENT
BEGIN:VEVENT
DTSTART;TZID=Europe/Amsterdam:20231119T094500
DTEND;TZID=Europe/Amsterdam:20231119T104500
DTSTAMP:20260421T100207
CREATED:20231022T151250Z
LAST-MODIFIED:20231101T132657Z
UID:6358-1700387100-1700390700@lacustris.nl
SUMMARY:Bandy cursus
DESCRIPTION:Lieve Lacustrianen! \n\n\n\nNa het overweldigende succes vorig jaar gaan we dit Lustrum jaar een activiteit herhalen: We gaan een Bandy cursus doen! \n\n\n\n19 november om 9:45 zullen we uitleg krijgen van de Bandy verniging over hun mooie sport en zullen we zelf de sport gaan beoefenen!
URL:https://lacustris.nl/event/bandy-2/
LOCATION:Triavium\, Van Rosenburgweg 2\, Nijmegen\, 6537 TM
CATEGORIES:6e Lustrum,Gezelligheids-activiteiten
ATTACH;FMTTYPE=image/png:https://lacustris.nl/wp-content/uploads/2023/10/20231022_170740_0000.png
ORGANIZER;CN="Lustrum commissie":MAILTO:lustrum@lacustris.nl
END:VEVENT
BEGIN:VEVENT
DTSTART;TZID=Europe/Amsterdam:20231108T190000
DTEND;TZID=Europe/Amsterdam:20231108T220000
DTSTAMP:20260421T100207
CREATED:20231021T090054Z
LAST-MODIFIED:20231021T090056Z
UID:6348-1699470000-1699480800@lacustris.nl
SUMMARY:Snack op elke plek
DESCRIPTION:
URL:https://lacustris.nl/event/snack-op-elke-plek/
ORGANIZER;CN="Activiteiten Commissie":MAILTO:ac@lacustris.nl
END:VEVENT
BEGIN:VEVENT
DTSTART;TZID=Europe/Amsterdam:20231027T180000
DTEND;TZID=Europe/Amsterdam:20231029T180000
DTSTAMP:20260421T100207
CREATED:20230905T223511Z
LAST-MODIFIED:20230918T124747Z
UID:6153-1698429600-1698602400@lacustris.nl
SUMMARY:Winterkamp
DESCRIPTION:Lieve lieve Lacustrianen\,Ben jij al eerder bij winterkamp geweest? Dan weet je al dat het dit jaar weer legendarisch wordt!🤩Ben jij nog nooit bij winterkamp geweest? We gaan een weekend weg naar Haarlem. Zaterdag en zondag gaan we lekker schaatsen\, vrijdag avond en zaterdag avond is het feest!!🥳 Het is een weekend met onwijs veel gezelligheid. Ken je nog geen/weinig lacustrianen? Dan is dit ook een super weekend om mensen te leren kennen!Kan je niet het hele weekend? Geen probleem in de aanmeld link laat je weten wanneer je erbij bent. \n\n\n\nIn het kort: \n\n\n\n\n27-28-29 oktober\n\n\n\nVrijdag avond ±18u verzamelen\, zondag ±18u thuis\n\n\n\nKosten ±50 met alles erop en eraan\n\n\n\n\nLiefs de AC
URL:https://lacustris.nl/event/winterkamp-2/
ORGANIZER;CN="Activiteiten Commissie":MAILTO:ac@lacustris.nl
END:VEVENT
BEGIN:VEVENT
DTSTART;TZID=Europe/Amsterdam:20231005T080000
DTEND;TZID=Europe/Amsterdam:20231005T170000
DTSTAMP:20260421T100207
CREATED:20231002T121443Z
LAST-MODIFIED:20231003T164443Z
UID:6278-1696492800-1696525200@lacustris.nl
SUMMARY:test event
DESCRIPTION:eafe
URL:https://lacustris.nl/event/test-event/
END:VEVENT
END:VCALENDAR