
BEGIN:VCALENDAR
VERSION:2.0
PRODID:-//N.S.S.S.V. Lacustris - ECPv6.15.18//NONSGML v1.0//EN
CALSCALE:GREGORIAN
METHOD:PUBLISH
X-ORIGINAL-URL:https://lacustris.nl
X-WR-CALDESC:Events for N.S.S.S.V. Lacustris
REFRESH-INTERVAL;VALUE=DURATION:PT1H
X-Robots-Tag:noindex
X-PUBLISHED-TTL:PT1H
BEGIN:VTIMEZONE
TZID:Europe/Amsterdam
BEGIN:DAYLIGHT
TZOFFSETFROM:+0100
TZOFFSETTO:+0200
TZNAME:CEST
DTSTART:20210328T010000
END:DAYLIGHT
BEGIN:STANDARD
TZOFFSETFROM:+0200
TZOFFSETTO:+0100
TZNAME:CET
DTSTART:20211031T010000
END:STANDARD
BEGIN:DAYLIGHT
TZOFFSETFROM:+0100
TZOFFSETTO:+0200
TZNAME:CEST
DTSTART:20220327T010000
END:DAYLIGHT
BEGIN:STANDARD
TZOFFSETFROM:+0200
TZOFFSETTO:+0100
TZNAME:CET
DTSTART:20221030T010000
END:STANDARD
BEGIN:DAYLIGHT
TZOFFSETFROM:+0100
TZOFFSETTO:+0200
TZNAME:CEST
DTSTART:20230326T010000
END:DAYLIGHT
BEGIN:STANDARD
TZOFFSETFROM:+0200
TZOFFSETTO:+0100
TZNAME:CET
DTSTART:20231029T010000
END:STANDARD
BEGIN:DAYLIGHT
TZOFFSETFROM:+0100
TZOFFSETTO:+0200
TZNAME:CEST
DTSTART:20240331T010000
END:DAYLIGHT
BEGIN:STANDARD
TZOFFSETFROM:+0200
TZOFFSETTO:+0100
TZNAME:CET
DTSTART:20241027T010000
END:STANDARD
END:VTIMEZONE
BEGIN:VEVENT
DTSTART;TZID=Europe/Amsterdam:20230624T000000
DTEND;TZID=Europe/Amsterdam:20230624T235959
DTSTAMP:20260421T161401
CREATED:20230529T184826Z
LAST-MODIFIED:20230529T190134Z
UID:5924-1687564800-1687651199@lacustris.nl
SUMMARY:Trainersuitje
DESCRIPTION:Lieve trainers van Lacustris\,De afgelopen jaren hebben jullie 1 of meerdere trainingen gegeven voor Lacustris. Daarvoor willen wij jullie natuurlijk graag bedanken. Wij willen met jullie op 24 juni naar een nog geheime activiteit in Nijmegen met daarna een heerlijk etentje! Het zal vanaf begin middag tot en met de avond duren.Schrijf je nu snel in\, zodat wij rekening kunnen houden met de hoeveelheid mensen!Specifieke tijd wordt een aantal dagen vooraf gecommuniceerd.Hopelijk tot 24 juni\,Groetjes namens het 27e\, 28e\, 29e en 30e bestuur\,Alina\, Ine\, Kirsten en Jesse
URL:https://lacustris.nl/event/trainersuitje/
ORGANIZER;CN="Bestuur":MAILTO:voorzitter@lacustris.nl
END:VEVENT
BEGIN:VEVENT
DTSTART;TZID=Europe/Amsterdam:20230602T203000
DTEND;TZID=Europe/Amsterdam:20230602T230000
DTSTAMP:20260421T161401
CREATED:20230524T083850Z
LAST-MODIFIED:20230526T062408Z
UID:5897-1685737800-1685746800@lacustris.nl
SUMMARY:Bierlympics 2023
DESCRIPTION:Het is weer tijd voor de jaarlijkse bierlympics!! Een avond vol gezelligheid\, drankjes\, sneuvelen en nog meer drankjes🍻
URL:https://lacustris.nl/event/bierlympics/
ORGANIZER;CN="Activiteiten Commissie":MAILTO:ac@lacustris.nl
END:VEVENT
BEGIN:VEVENT
DTSTART;TZID=Europe/Amsterdam:20230520T203000
DTEND;TZID=Europe/Amsterdam:20230520T230000
DTSTAMP:20260421T161401
CREATED:20230419T182446Z
LAST-MODIFIED:20230519T113346Z
UID:5489-1684614600-1684623600@lacustris.nl
SUMMARY:Cantus
DESCRIPTION:Op 20 mei van 20.30 tot 23.00 uur organiseert de activiteitencommissie The anything but a cup cantus! Hierbij gaan we onder het genot van bier of fris de longen uit ons lijf zingen\, maar pas op de punator\, die ziet namelijk niks door de vingers! Dus heb jij zin om jezelf helemaal terug te zuipen naar de fabrieksinstelling dat gepaard gaat met veel gezelligheid en zang\, meld je dan snel aan!
URL:https://lacustris.nl/event/cantus/
LOCATION:N.S.V. Carolus Magnus\, Hertogstraat 141\, Nijmegen\, 6511 RZ\, Nederland
CATEGORIES:Gezelligheids-activiteiten
ORGANIZER;CN="Activiteiten Commissie":MAILTO:ac@lacustris.nl
END:VEVENT
BEGIN:VEVENT
DTSTART;TZID=Europe/Amsterdam:20230516T183000
DTEND;TZID=Europe/Amsterdam:20230516T203000
DTSTAMP:20260421T161401
CREATED:20230426T142048Z
LAST-MODIFIED:20230519T113405Z
UID:5779-1684261800-1684269000@lacustris.nl
SUMMARY:Skeelertocht
DESCRIPTION:Lijkt het jou leuk om een keertje te rollen over het asfalt en je skeelertalent te verbeteren? Dan is deze skeelertocht zeker iets voor jou! Zowel beginners als gevorderden zijn welkom en zullen worden opgedeeld in twee groepen die verschillende afstanden zullen skeeleren. Tussendoor nemen we een lekkere pauze met iets te drinken en te eten. Heb je geen skeelers? Geen probleem! Het lenen van materiaal is mogelijk! (Stuur hiervoor een mailtje naar secretaris@lacustris.nl) We hopen jullie op 16 mei te zien\, \n\n\n\nWat?: Skeelertocht voor beginners en gevorderden!Wanneer?: 16 meiHoe laat?: verzamelen om 18:30 en starten om 18:45Waar?: Wordt later nog bekendgemaakt
URL:https://lacustris.nl/event/skeelertocht/
CATEGORIES:Skeeleren
ORGANIZER;CN="Skeelercommissie":MAILTO:skeelercommissie@lacustris.nl
END:VEVENT
BEGIN:VEVENT
DTSTART;TZID=Europe/Amsterdam:20230421T201500
DTEND;TZID=Europe/Amsterdam:20230421T201500
DTSTAMP:20260421T161401
CREATED:20230410T125521Z
LAST-MODIFIED:20230519T113422Z
UID:5478-1682108100-1682108100@lacustris.nl
SUMMARY:Prison Island
DESCRIPTION:Lieve Lacustrianen\, \n\n\n\nOp 21 april krijg je de kans om te laten zien of jij kan ontsnappen! Wij zullen opgesloten worden bij Prison Island en kijken we wie het snelst weet te ontsnappen. \n\n\n\nAanmelden en kosteloos afmelden tot 19 april. \n\n\n\nLiefs\, \n\n\n\nDe AC
URL:https://lacustris.nl/event/prison-island/
LOCATION:Olround Bowling Nijmegen\, Heyendaalseweg 90-92\, Nijmegen\, 6525 AK\, Nederland
CATEGORIES:Gezelligheids-activiteiten
ORGANIZER;CN="Activiteiten Commissie":MAILTO:ac@lacustris.nl
END:VEVENT
BEGIN:VEVENT
DTSTART;TZID=Europe/Amsterdam:20230412T210000
DTEND;TZID=Europe/Amsterdam:20230412T223000
DTSTAMP:20260421T161401
CREATED:20230404T215907Z
LAST-MODIFIED:20230519T113525Z
UID:5442-1681333200-1681338600@lacustris.nl
SUMMARY:Paasactiviteit
DESCRIPTION:Lieve Lacustrianen\, \n\n\n\nOp 12 april vindt er een leuke Paasactiviteit plaats!! We gaan in het Kronenburgerpark een aantal spelletjes spelen en uiteraard paaseitjes zoeken🐣\, daarna sluiten we af met een borrel bij Maxim!🍻 Dus wees erbij! \n\n\n\nLiefs\,De AC
URL:https://lacustris.nl/event/paasactiviteit/
CATEGORIES:Gezelligheids-activiteiten
END:VEVENT
BEGIN:VEVENT
DTSTART;TZID=Europe/Amsterdam:20230331T183000
DTEND;TZID=Europe/Amsterdam:20230331T203000
DTSTAMP:20260421T161401
CREATED:20230305T190112Z
LAST-MODIFIED:20230519T113604Z
UID:5414-1680287400-1680294600@lacustris.nl
SUMMARY:BMX clinic
DESCRIPTION:Lieve Lacustrianen\, Op 31 Maart gaan we iets superleuks doen! We gaan namelijk BMX-en bij Waalhalla. Denk je nou\, dat kan ik helemaal niet? Geen probleem\, want we krijgen ruim 1\,5 uur les in hoe je de vetste trucs kan doen op die kleine fietsjes. Voor slechts 15 euro kan je al deelnemen aan deze coole clinic. Maar\, wees er snel bij want er is maar beperkt plaats. Meld je snel aan\, en dan zien we je op 31 Maart! \n\n\n\nKosteloos aan-/afmelden tot: 24 Maart \n\n\n\nLiefs\, De AC
URL:https://lacustris.nl/event/bmxclinic/
LOCATION:Waalhalla sportcomplex\, Winselingseweg 12\, Nijmegen\, 6541AK\, Nederland
CATEGORIES:Gezelligheids-activiteiten
ORGANIZER;CN="Activiteiten Commissie":MAILTO:ac@lacustris.nl
END:VEVENT
BEGIN:VEVENT
DTSTART;TZID=Europe/Amsterdam:20230315T200000
DTEND;TZID=Europe/Amsterdam:20230315T230000
DTSTAMP:20260421T161401
CREATED:20230303T090230Z
LAST-MODIFIED:20230519T113631Z
UID:5406-1678910400-1678921200@lacustris.nl
SUMMARY:Bierproeverij
DESCRIPTION:Lieve Lacustrianen\,Na ruim twee jaar wachten\, is het dan zo ver! Lacustris organiseert weer de famous bierproeverij!🍺 Ditmaal niet meer online\, maar gezellig ouderwets samen. Kan je nou ook niet wachten om al die biertjes te proeven (of stiekem toch een wijntje te bestellen😉) meld je dan aan voor de bierproeverij op woensdag 15 maart vanaf 20:00! De maandelijkse borrel in Café Maxim zal dan niet doorgaan\, maar verhuist worden naar café de Hemel🍻 Hier wordt dan ook het lid van de maand uitgereikt! De kosten zullen per persoon €9\,25 bedragen.We hopen jullie dan allemaal te zien!Liefs\, de AC💋
URL:https://lacustris.nl/event/bierproeverij/
LOCATION:De Hemel\, Franseplaats 1\, Nijmegen\, 6511VS\, Nederland
CATEGORIES:Borrels,Gezelligheids-activiteiten
ATTACH;FMTTYPE=image/jpeg:https://lacustris.nl/wp-content/uploads/2023/03/PHOTO-2023-03-01-21-43-23.jpg
ORGANIZER;CN="Activiteiten Commissie":MAILTO:ac@lacustris.nl
END:VEVENT
BEGIN:VEVENT
DTSTART;TZID=Europe/Amsterdam:20230226T091500
DTEND;TZID=Europe/Amsterdam:20230226T111500
DTSTAMP:20260421T161401
CREATED:20230126T103950Z
LAST-MODIFIED:20230519T113642Z
UID:5380-1677402900-1677410100@lacustris.nl
SUMMARY:Lacustris gaat een Bandy cursus doen!
DESCRIPTION:Lieve Lacustrianen\,Op zondag 26-02 wordt er speciaal voor ons een bandy clinic georganiseerd door de bandy vereniging uit Nijmegen. Bandy is een balsport die op het ijs wordt gespeeld en is de voorloper van het ijshockey en veldhockey. Snelheid\, techniek en behendigheid staan voorop en er is veel minder fysiek contact dan bij ijshockey. De goals zijn ongeveer zo groot als een veldhockey goal en het spel wordt gespeeld met een bal en sticks. \n\n\n\nWij krijgen de kans om deze sport te leren voor maar ±€10 p.p.! Al het materiaal en een trainer zijn aanwezig. Voordat we het ijs op gaan krijgen we eerst wat uitleg daarna hebben we 1 uur op het ijs de tijd om het te leren. We sluiten de clinic graag af in cafe Pière met een warme chocomel. \n\n\n\nDe clinic duurt van 09.15-11.15 incl. uitleg\, aankleden en opruimen.Ijshockey schaatsen kunnen wij alvast huren dit kost €6\,50 p.p.Er zijn in totaal maar 20 plekken beschikbaar\, dus wees er snel bij. Kosteloos afmelden kan tot en met 19-02. \n\n\n\nSamengevat:Wat? —> een supercoole Bandy clinicWanneer? —> 26 februari van 9:15 – 11:15 uur.Hoe duur? —> +- 10 euro (+- 16\,50 als je ook ijshockeyschaatsen wil huren)Aanmelden kan tot 23 februari\, kosteloos afmelden tot en met 19 februari. \n\n\n\nWij hebben er veel zin in!Liefs de AC
URL:https://lacustris.nl/event/bandy/
LOCATION:Triavium\, Van Rosenburgweg 2\, Nijmegen\, 6537 TM
CATEGORIES:Gezelligheids-activiteiten
ORGANIZER;CN="Activiteiten Commissie":MAILTO:ac@lacustris.nl
END:VEVENT
BEGIN:VEVENT
DTSTART;TZID=Europe/Amsterdam:20230207T200000
DTEND;TZID=Europe/Amsterdam:20230207T220000
DTSTAMP:20260421T161401
CREATED:20230118T132043Z
LAST-MODIFIED:20230519T113700Z
UID:5364-1675800000-1675807200@lacustris.nl
SUMMARY:Slijpavond
DESCRIPTION:Wil jij leren hoe je vlijmscherpe schaatsen krijgt? Sluit dan aan bij de slijpavond! Deze activiteit is helemaal gratis voor alle leden en je krijgt ook nog eens lekker chocomel! \n\n\n\nLocatie wordt later gedeeld en hier bijgewerkt!
URL:https://lacustris.nl/event/slijpavond/
CATEGORIES:Gezelligheids-activiteiten
ORGANIZER;CN="Technische Commissie":MAILTO:tc@lacustris.nl
END:VEVENT
BEGIN:VEVENT
DTSTART;TZID=Europe/Amsterdam:20230203T200000
DTEND;TZID=Europe/Amsterdam:20230203T235900
DTSTAMP:20260421T161401
CREATED:20221201T191953Z
LAST-MODIFIED:20230519T113719Z
UID:5093-1675454400-1675468740@lacustris.nl
SUMMARY:Gala N.S.S.S.V. Lacustris
DESCRIPTION:Galacie presents: LACUSTRIS GALA 2023! \n\n\n\nEind-de-lijk na tijden van weggeweest organiseert de Galacie het Lacustris gala 2023! Een avond vol met dansjes\, drankjes en schaatspasjes. Het gala zal plaatsvinden op vrijdag 03 Februari 2023 van 20.00 tot 24.00 uur met als thema: WITH A TOUCH OF RED! \n\n\n\nDe kaartjes zijn €36\,50- p.p. voor leden en niet leden. Dus neem vooral gezellig je rela\, scharrel\, vriend/vriendin of je wingman/woman mee! \n\n\n\nHet kaartje geeft je toegang tot het gala (deuren sluiten 20:30) en je krijgt een onbeperkte hoeveelheid bier\, fris\, wijn en gezelligheid op een prachtige locatie in het centrum van Nijmegen\, namelijk: De Waagh! \n\n\n\nDus heb jij zin in om een avond lang te flaneren in je mooiste galakleding of schep jij liever heel de avond op over je rondetijden tegen je flirt? Twijfel dan geen moment en bemachtig een kaartje! Let op; er zijn maar een beperkt aantal kaarten beschikbaar! \n\n\n\nUiterlijk aanmelden tot 30 januari 2023Uiterlijk afmelden tot 30 januari 2023 (via email: galacie@lacustris.nl)
URL:https://lacustris.nl/event/gala/
LOCATION:De Waagh\, Grote Markt 26\, Nijmegen\, 6511KB\, Nederland
CATEGORIES:Gezelligheids-activiteiten
ATTACH;FMTTYPE=image/jpeg:https://lacustris.nl/wp-content/uploads/2022/12/IMG-20221206-WA0002.jpg
ORGANIZER;CN="Gala commissie":MAILTO:galacie@lacustris.nl
END:VEVENT
BEGIN:VEVENT
DTSTART;TZID=Europe/Amsterdam:20230111T210000
DTEND;TZID=Europe/Amsterdam:20230111T230000
DTSTAMP:20260421T161401
CREATED:20221226T185147Z
LAST-MODIFIED:20230110T181902Z
UID:5302-1673470800-1673478000@lacustris.nl
SUMMARY:Dart en pool avond!
DESCRIPTION:Lieve Lacustrianen! \n\n\n\nWoensdag 11 januari vanaf 21:00 is er weer een nieuwe activiteit: Poolen & Darten!🎱🎯 \n\n\n\nDeze avond gaan we zoals de naam al zegt poolen en darten! Je kan bij de aanmelding jouw voorkeur doorgeven en dan gaan wij er een leuke kleine competitie van maken!🏆 Voor de winnaar zal er natuurlijk een leuke prijs geregeld worden!🎁 \n\n\n\nWacht dus niet langer en meld je snel aan!Afmelden kan t/m 9 januari. \n\n\n\nGroetjes\, de AC!
URL:https://lacustris.nl/event/poolen-darten/
LOCATION:Café Pool\, Van Welderenstraat 99\, Nijmegen\, 6511MG\, Nederland
CATEGORIES:Gezelligheids-activiteiten
ORGANIZER;CN="Activiteiten Commissie":MAILTO:ac@lacustris.nl
END:VEVENT
BEGIN:VEVENT
DTSTART;TZID=Europe/Amsterdam:20221228T000000
DTEND;TZID=Europe/Amsterdam:20230104T235959
DTSTAMP:20260421T161401
CREATED:20220928T121225Z
LAST-MODIFIED:20221102T145519Z
UID:4786-1672185600-1672876799@lacustris.nl
SUMMARY:Winterreis
DESCRIPTION:Lieve Lacustrianen\,Na de zomerreis in Inzell heeft de reiscommissie alweer een nieuwe reis voor jullie in petto: de winterreis. Eindelijk kan de reis weer georganiseerd worden na de barre corona-jaren\, daar moet je bij zijn! De reis zal plaatsvinden van 28 december 2022 tot en met 4 januari 2023. We gaan natuurlijk lekker veel schaatsen\, maar daarnaast is er ook tijd voor gezelligheid\, drankjes en andere uitjes. De aanmeldingen openen 10 oktober 22:00\, wees er snel bij want er zijn een maximum aantal plekken beschikbaar! Gratis uitschrijven kan t/m 30 november. \n\n\n\nZorg dat je je altijd inschrijft\, ookal zit het al vol. Je komt dan automatisch op de wachtlijst! \n\n\n\nINSCHRIJVING SLUIT OP 13 NOVEMBER 23:59 \n\n\n\nLiefs de reiscie
URL:https://lacustris.nl/event/winterreis/
LOCATION:Erfurt – IJsbaan\, Arnstädter Str. 53\, Erfurt\, Thüringen\, 99096\, Duitsland
ORGANIZER;CN="Reiscommissie":MAILTO:reiscie@lacustris.nl
END:VEVENT
BEGIN:VEVENT
DTSTART;TZID=Europe/Amsterdam:20221221T180000
DTEND;TZID=Europe/Amsterdam:20221221T221500
DTSTAMP:20260421T161401
CREATED:20221215T225423Z
LAST-MODIFIED:20221216T074303Z
UID:5193-1671645600-1671660900@lacustris.nl
SUMMARY:Halfjaarlijkse ALV
DESCRIPTION:Hoi allemaal! \n\n\n\nSpeciaal voor aankomende ALV hebben we geregeld dat er pizza besteld kan worden als avondeten\, dus geef snel je keuze door! Let op: aanmelden voor de ALV is niet verplicht\, elk lid is welkom ook zonder aanmelding. Tot woensdag! \n\n\n\nGroetjes\, het 30e bestuur!
URL:https://lacustris.nl/event/halfjaarlijkse-alv/
LOCATION:Radboud sportcentrum – EOS lokaal: N01.780\, Heyendaalseweg 141\, Nijmegen\, 6525 AJ\, Nederland
ORGANIZER;CN="Bestuur":MAILTO:voorzitter@lacustris.nl
END:VEVENT
BEGIN:VEVENT
DTSTART;TZID=Europe/Amsterdam:20221207T193000
DTEND;TZID=Europe/Amsterdam:20221207T210000
DTSTAMP:20260421T161401
CREATED:20221123T124326Z
LAST-MODIFIED:20230519T113747Z
UID:5051-1670441400-1670446800@lacustris.nl
SUMMARY:Heel Lacustris Bakt!
DESCRIPTION:
URL:https://lacustris.nl/event/heel-lacustris-bakt/
CATEGORIES:Gezelligheids-activiteiten
ATTACH;FMTTYPE=image/jpeg:https://lacustris.nl/wp-content/uploads/2022/11/IMG-20221125-WA0001.jpg
ORGANIZER;CN="Activiteiten Commissie":MAILTO:ac@lacustris.nl
END:VEVENT
BEGIN:VEVENT
DTSTART;TZID=Europe/Amsterdam:20221203T000000
DTEND;TZID=Europe/Amsterdam:20221203T235959
DTSTAMP:20260421T161401
CREATED:20221117T164735Z
LAST-MODIFIED:20230519T113755Z
UID:5010-1670025600-1670111999@lacustris.nl
SUMMARY:Dagje schaatsen!
DESCRIPTION:Lieve leden! Zaterdag 3 december willen we graag jullie de mogelijkheid bieden om gezellig met z’n alle te gaan schaatsen in… Enschede! Regel vrij bij je bijbaantje! Zeg het weekendje thuisthuis maar even af\, want het schaatsen wil je niet missen! \n\n\n\nAlle informatie over reizen en precieze tijd volgt via de mail! \n\n\n\nGroetjes de AC
URL:https://lacustris.nl/event/dagje-schaatsen/
LOCATION:Schaatsbaan Enschede\, Colosseum 90\, Enschede\, 7521PT\, Nederland
CATEGORIES:Gezelligheids-activiteiten
ORGANIZER;CN="Activiteiten Commissie":MAILTO:ac@lacustris.nl
END:VEVENT
BEGIN:VEVENT
DTSTART;TZID=Europe/Amsterdam:20221109T200000
DTEND;TZID=Europe/Amsterdam:20221109T233000
DTSTAMP:20260421T161401
CREATED:20221101T151543Z
LAST-MODIFIED:20230519T113800Z
UID:4890-1668024000-1668036600@lacustris.nl
SUMMARY:Spelletjes avond @Maxim's
DESCRIPTION:Lieve leden! Op 9 november organiseert de AC weer een legendarische spelletjesavond! Ben je een slechte winnaar? Pak je favoriete spel en doe gezellig mee! Jullie zijn vanaf 20:00 welkom bij cafe Maxim! Neem gerust je eigen spelletjes mee dan maken we er een gezellige avond van!
URL:https://lacustris.nl/event/spelletjesavond/
LOCATION:Café Maxim\, Burghardt van den berghstraat 87-89\, Nijmegen\, 6512DG\, Nederland
CATEGORIES:Gezelligheids-activiteiten
ORGANIZER;CN="Activiteiten Commissie":MAILTO:ac@lacustris.nl
END:VEVENT
BEGIN:VEVENT
DTSTART;TZID=Europe/Amsterdam:20221021T000000
DTEND;TZID=Europe/Amsterdam:20221023T235959
DTSTAMP:20260421T161401
CREATED:20220928T120800Z
LAST-MODIFIED:20230519T113808Z
UID:4784-1666310400-1666569599@lacustris.nl
SUMMARY:Winterkamp
DESCRIPTION:Lieve Lacustrianen!We gaan weer op winterkamp! Dit is eindelijk onze kans om lekker (met elkaar) te schaatsen!!! We gaan er weer een  mooi weekend van maken op de vertrouwde winterkamp baan in Haarlem. Een weekend lekker schaatsen en gezelligheid\, wie wil dat nou niet? Meldt je snel aan en zet het weekend in je agenda! Wij kijken er enorm naar uit! \n\n\n\nUiterlijk uitschrijven t/m zaterdag 15 oktober!Inschrijven tot vrijdag 21 oktober 12:00!\n\n\n\nLiefs de AC
URL:https://lacustris.nl/event/winterkamp/
LOCATION:Schaatsbaan Haarlem\, IJsbaanlaan 2\, Haarlem\, 2024 AV\, Nederland
CATEGORIES:Gezelligheids-activiteiten
ORGANIZER;CN="Activiteiten Commissie":MAILTO:ac@lacustris.nl
END:VEVENT
END:VCALENDAR